BEGIN:VCALENDAR
VERSION:2.0
PRODID:-//UPMC - ECPv6.15.12.2//NONSGML v1.0//EN
CALSCALE:GREGORIAN
METHOD:PUBLISH
X-WR-CALNAME:UPMC
X-ORIGINAL-URL:https://careers.upmc.com
X-WR-CALDESC:Events for UPMC
REFRESH-INTERVAL;VALUE=DURATION:PT1H
X-Robots-Tag:noindex
X-PUBLISHED-TTL:PT1H
BEGIN:VTIMEZONE
TZID:America/New_York
BEGIN:DAYLIGHT
TZOFFSETFROM:-0500
TZOFFSETTO:-0400
TZNAME:EDT
DTSTART:20240310T070000
END:DAYLIGHT
BEGIN:STANDARD
TZOFFSETFROM:-0400
TZOFFSETTO:-0500
TZNAME:EST
DTSTART:20241103T060000
END:STANDARD
BEGIN:DAYLIGHT
TZOFFSETFROM:-0500
TZOFFSETTO:-0400
TZNAME:EDT
DTSTART:20250309T070000
END:DAYLIGHT
BEGIN:STANDARD
TZOFFSETFROM:-0400
TZOFFSETTO:-0500
TZNAME:EST
DTSTART:20251102T060000
END:STANDARD
BEGIN:DAYLIGHT
TZOFFSETFROM:-0500
TZOFFSETTO:-0400
TZNAME:EDT
DTSTART:20260308T070000
END:DAYLIGHT
BEGIN:STANDARD
TZOFFSETFROM:-0400
TZOFFSETTO:-0500
TZNAME:EST
DTSTART:20261101T060000
END:STANDARD
END:VTIMEZONE
BEGIN:VEVENT
DTSTART;TZID=America/New_York:20250423T110000
DTEND;TZID=America/New_York:20250423T143000
DTSTAMP:20260424T234524
CREATED:20250417T161848Z
LAST-MODIFIED:20250417T161848Z
UID:8885-1745406000-1745418600@careers.upmc.com
SUMMARY:Find Your Fit @ UPMC Presbyterian & UPMC Shadyside
DESCRIPTION:UPMC Presbyterian and UPMC Shadyside are both teaching hospitals with a strong community feel. This is a wonderful opportunity to work in a fast-paced environment and impact the lives of a wide variety of patient populations. UPMC Presbyterian and UPMC Shadyside are both Magnet® designated facilities and considered to be recognized leaders in organ transplantation\, cardiology and cardiothoracic surgery\, critical care medicine\, trauma services\, post-surgical care\, a renowned teaching hospital\, and a center for ongoing cutting-edge research. \nWhat to expect:\n\nInterviews\nJob Shadowing\nMeet with Recruiters\nMeet with Hiring Managers\nRefreshments\n\nWho should attend:\nThis event is focused on various nursing support and patient care support roles including: \n\nPatient Care Technician\nNursing Assistant\nPatient & Family Concierge\n\nRegister
URL:https://careers.upmc.com/event/find-your-fit-upmc-presbyterian-upmc-shadyside-4/
LOCATION:UPMC Shadyside\, 5230 Centre Ave\, Pittsburgh\, Pennsylvania\, 15232\, United States
CATEGORIES:Clinical Non-Nursing
END:VEVENT
BEGIN:VEVENT
DTSTART;TZID=America/New_York:20250424T120000
DTEND;TZID=America/New_York:20250424T130000
DTSTAMP:20260424T234524
CREATED:20250227T155128Z
LAST-MODIFIED:20250227T155128Z
UID:8774-1745496000-1745499600@careers.upmc.com
SUMMARY:UPMC Careers - Virtual Event
DESCRIPTION:Whether you’re looking for your first job or aspiring to take the next step in your career journey\, there are opportunities for everyone at UPMC. With 100\,000 employees on our team\, we’re excited to offer roles in a variety of clinical and non-clinical career areas. \nWhat to expect at this event:\n\nJob Search & Resume Assistance\nMeet with Recruiters\nGuest Speaker\nPresentations\n\nWho should attend:\nThis event is focused on roles in customer & member services\, billing & registration\, behavioral health\, administrative & office support\, and patient care support.  \nPlease register if you are interested in the following facilities: \n\nPhysician Services\nUPMC Western Psychiatric Hospital\nUPMC Magee-Womens Hospital\nUPMC Hillman Cancer Centers\nUPMC Children’s Hospital of Pittsburgh\n\nRegister
URL:https://careers.upmc.com/event/upmc-careers-virtual-event/
LOCATION:Pennsylvania
CATEGORIES:Clinical Non-Nursing
END:VEVENT
END:VCALENDAR