BEGIN:VCALENDAR
VERSION:2.0
PRODID:-//UPMC - ECPv6.15.12.2//NONSGML v1.0//EN
CALSCALE:GREGORIAN
METHOD:PUBLISH
X-ORIGINAL-URL:https://careers.upmc.com
X-WR-CALDESC:Events for UPMC
REFRESH-INTERVAL;VALUE=DURATION:PT1H
X-Robots-Tag:noindex
X-PUBLISHED-TTL:PT1H
BEGIN:VTIMEZONE
TZID:America/New_York
BEGIN:DAYLIGHT
TZOFFSETFROM:-0500
TZOFFSETTO:-0400
TZNAME:EDT
DTSTART:20240310T070000
END:DAYLIGHT
BEGIN:STANDARD
TZOFFSETFROM:-0400
TZOFFSETTO:-0500
TZNAME:EST
DTSTART:20241103T060000
END:STANDARD
BEGIN:DAYLIGHT
TZOFFSETFROM:-0500
TZOFFSETTO:-0400
TZNAME:EDT
DTSTART:20250309T070000
END:DAYLIGHT
BEGIN:STANDARD
TZOFFSETFROM:-0400
TZOFFSETTO:-0500
TZNAME:EST
DTSTART:20251102T060000
END:STANDARD
BEGIN:DAYLIGHT
TZOFFSETFROM:-0500
TZOFFSETTO:-0400
TZNAME:EDT
DTSTART:20260308T070000
END:DAYLIGHT
BEGIN:STANDARD
TZOFFSETFROM:-0400
TZOFFSETTO:-0500
TZNAME:EST
DTSTART:20261101T060000
END:STANDARD
BEGIN:DAYLIGHT
TZOFFSETFROM:-0500
TZOFFSETTO:-0400
TZNAME:EDT
DTSTART:20270314T070000
END:DAYLIGHT
BEGIN:STANDARD
TZOFFSETFROM:-0400
TZOFFSETTO:-0500
TZNAME:EST
DTSTART:20271107T060000
END:STANDARD
END:VTIMEZONE
BEGIN:VEVENT
DTSTART;TZID=America/New_York:20251112T100000
DTEND;TZID=America/New_York:20251112T110000
DTSTAMP:20260425T153932
CREATED:20251029T193220Z
LAST-MODIFIED:20251029T193220Z
UID:9583-1762941600-1762945200@careers.upmc.com
SUMMARY:UPMC Pathways to Work Career Café Event - Virtual Safety Attendant
DESCRIPTION:Join UPMC as a Virtual Safety Attendant and play a vital role in protecting patients and supporting care teams. This is your opportunity to leverage innovative monitoring tools\, collaborate with experienced health professionals\, and make a real impact by ensuring a safe environment for those who need it most. \nWhat to expect at this event:\n\nMeet with Recruiters\nPresentation\nRefreshments\n\nWho should attend:\nThis event is focused on individuals interested in a virtual safety attendant role. A virtual option is also available for those unable to attend in person. Register for more information. \n  \nRegister
URL:https://careers.upmc.com/event/upmc-pathways-to-work-career-cafe-event-virtual-safety-attendant/
LOCATION:UPMC Health Plan Neighborhood Center\, 6401 Penn Ave\, Pittsburgh\, Pennsylvania\, 15206\, United States
CATEGORIES:Clinical Non-Nursing
END:VEVENT
BEGIN:VEVENT
DTSTART;TZID=America/New_York:20251120T110000
DTEND;TZID=America/New_York:20251120T143000
DTSTAMP:20260425T153932
CREATED:20251107T190754Z
LAST-MODIFIED:20251107T190754Z
UID:9608-1763636400-1763649000@careers.upmc.com
SUMMARY:Find Your Fit @ UPMC Presbyterian - Resource Department
DESCRIPTION:Join the Resource Unit / Float Pool @ UPMC Presbyterian!UPMC Presbyterian\, an ANCC Magnet-designated hospital\, is hiring full-time Patient Care Technicians and Nursing Assistants for our Resource Unit—a high-impact team that supports staffing needs across all hospital units. Enjoy a 10% base rate bonus while gaining experience in diverse areas such as Med-Surg\, ICU\, PACU\, and the Emergency Department. This fast-paced role offers variety\, autonomy\, and the chance to grow your skills in a supportive\, high-achieving environment. As a leading academic medical center\, UPMC Presbyterian is known for excellence in organ transplantation\, cardiology\, trauma\, and research. Join us and make a difference across multiple specialties. \nWhat to expect:\n\nInterviews\nMeet with Recruiters\nMeet with Hiring Managers\n\nWho should attend:\nThis event is focused on various nursing support and patient care support roles including: \n\nPatient Care Technician\nNursing Assistant\n\nRegister
URL:https://careers.upmc.com/event/find-your-fit-upmc-presbyterian-resource-department-2/
LOCATION:UPMC Presbyterian – Scaife Hall\, 3550 Terrace St\, Pittsburgh\, Pennsylvania\, 15213\, United States
CATEGORIES:Clinical Non-Nursing
END:VEVENT
BEGIN:VEVENT
DTSTART;TZID=America/New_York:20260220T113000
DTEND;TZID=America/New_York:20260220T143000
DTSTAMP:20260425T153932
CREATED:20260203T162205Z
LAST-MODIFIED:20260203T162205Z
UID:9818-1771587000-1771597800@careers.upmc.com
SUMMARY:Find Your Fit @ UPMC Shadyside
DESCRIPTION:What to expect at this event:\n\nInterviews\nMeet with Recruiters\nMeet with Hiring Managers\nRefreshments\n\nWho should attend:\nThis event is focused on various nursing support and patient care support roles including: \n\nPatient care technician\nNursing assistant\nPatient & family concierge\n\nAbout UPMC Presbyterian and UPMC Shadyside:\nUPMC Presbyterian and UPMC Shadyside are both teaching hospitals with a strong community feel. This is a wonderful opportunity to work in a fast-paced environment and impact the lives of a wide variety of patient populations. UPMC Presbyterian and UPMC Shadyside are both Magnet® designated facilities and considered to be recognized leaders in organ transplantation\, cardiology and cardiothoracic surgery\, critical care medicine\, trauma services\, post-surgical care\, a renowned teaching hospital\, and a center for ongoing cutting-edge research. \nRegister
URL:https://careers.upmc.com/event/find-your-fit-upmc-shadyside/
LOCATION:UPMC Shadyside\, 5230 Centre Ave\, Pittsburgh\, Pennsylvania\, 15232\, United States
CATEGORIES:Clinical Non-Nursing
END:VEVENT
BEGIN:VEVENT
DTSTART;TZID=America/New_York:20260408T090000
DTEND;TZID=America/New_York:20260408T100000
DTSTAMP:20260425T153932
CREATED:20260311T190831Z
LAST-MODIFIED:20260311T190831Z
UID:9886-1775638800-1775642400@careers.upmc.com
SUMMARY:UPMC Pathways to Work Career Café Event – Histology Technician
DESCRIPTION:Join UPMC Pathways to Work for an engaging event where you can enjoy sweet treats while learning about career opportunities. \nWhat to expect at this event:\n\nGuest Speaker\nMeet with Recruiters\nPresentation\nRefreshments\n\nWho should attend:\nThis event is focused on individuals interested in histology technician opportunities. A virtual option is also available for those unable to attend in person. Register for more information. \nRegister
URL:https://careers.upmc.com/event/upmc-pathways-to-work-career-cafe-event-histology-technician/
LOCATION:UPMC Health Plan Neighborhood Center\, 6401 Penn Ave\, Pittsburgh\, Pennsylvania\, 15206\, United States
CATEGORIES:Clinical Non-Nursing
END:VEVENT
BEGIN:VEVENT
DTSTART;TZID=America/New_York:20260423T110000
DTEND;TZID=America/New_York:20260423T143000
DTSTAMP:20260425T153932
CREATED:20260415T171444Z
LAST-MODIFIED:20260415T171444Z
UID:9934-1776942000-1776954600@careers.upmc.com
SUMMARY:Find Your Fit @ UPMC Shadyside
DESCRIPTION:Join the team at UPMC Shadyside!  We’re a Magnet®-designated hospital with over 150 years of commitment to supporting our patients and staff. As part of UPMC Shadyside you’ll work in a nationally ranked organization that values teamwork\, learning\, and professional development. UPMC Shadyside offers a wide range of specialties\, including orthopedics\, heart & vascular care\, rehabilitation\, and oncology.  Whether you’re starting your healthcare career or looking to grow in your next role our nursing support positions offer meaningful work\, career advancement\, and support to build a long-term career in healthcare.  \nWhat to expect:\n\nInterviews\nJob Shadowing\nMeet with Recruiters\nMeet with Hiring Managers\nRefreshments\n\nWho should attend:\nThis event is focused on various nursing support and patient care support roles including: \n\nPatient Care Technician\nNursing Assistant\nPatient & Family Concierge\nPatient Transporter\n\nRegister
URL:https://careers.upmc.com/event/find-your-fit-upmc-shadyside-2/
LOCATION:UPMC Shadyside\, 5230 Centre Ave\, Pittsburgh\, Pennsylvania\, 15232\, United States
CATEGORIES:Clinical Non-Nursing
END:VEVENT
END:VCALENDAR