BEGIN:VCALENDAR
VERSION:2.0
PRODID:-//UPMC - ECPv6.15.12.2//NONSGML v1.0//EN
CALSCALE:GREGORIAN
METHOD:PUBLISH
X-WR-CALNAME:UPMC
X-ORIGINAL-URL:https://careers.upmc.com
X-WR-CALDESC:Events for UPMC
REFRESH-INTERVAL;VALUE=DURATION:PT1H
X-Robots-Tag:noindex
X-PUBLISHED-TTL:PT1H
BEGIN:VTIMEZONE
TZID:America/New_York
BEGIN:DAYLIGHT
TZOFFSETFROM:-0500
TZOFFSETTO:-0400
TZNAME:EDT
DTSTART:20240310T070000
END:DAYLIGHT
BEGIN:STANDARD
TZOFFSETFROM:-0400
TZOFFSETTO:-0500
TZNAME:EST
DTSTART:20241103T060000
END:STANDARD
BEGIN:DAYLIGHT
TZOFFSETFROM:-0500
TZOFFSETTO:-0400
TZNAME:EDT
DTSTART:20250309T070000
END:DAYLIGHT
BEGIN:STANDARD
TZOFFSETFROM:-0400
TZOFFSETTO:-0500
TZNAME:EST
DTSTART:20251102T060000
END:STANDARD
BEGIN:DAYLIGHT
TZOFFSETFROM:-0500
TZOFFSETTO:-0400
TZNAME:EDT
DTSTART:20260308T070000
END:DAYLIGHT
BEGIN:STANDARD
TZOFFSETFROM:-0400
TZOFFSETTO:-0500
TZNAME:EST
DTSTART:20261101T060000
END:STANDARD
END:VTIMEZONE
BEGIN:VEVENT
DTSTART;TZID=America/New_York:20250305T100000
DTEND;TZID=America/New_York:20250305T110000
DTSTAMP:20260425T023222
CREATED:20250212T105353Z
LAST-MODIFIED:20250212T105353Z
UID:8726-1741168800-1741172400@careers.upmc.com
SUMMARY:UPMC Pathways to Work Career Café Event - UPMC Schools of Nursing
DESCRIPTION:When our team of more than 20\,000 nurses chose UPMC\, they chose more than just a job. They chose excellence\, culture\, flexibility\, growth\, and more. We empower\, support\, and partner with nurses starting on day one of their careers – ensuring that becoming a nurse at UPMC is a choice you can be confident in. \nWhat to expect at this event:\n\nGuest Speaker\nMeet with Recruiters\nPresentation\nRefreshments\n\nWho should attend:\nThis event is focused on individuals interested in UPMC Schools of Nursing. A virtual option is also available for those unable to attend in person. Register for more information. \n  \nRegister
URL:https://careers.upmc.com/event/upmc-pathways-to-work-career-cafe-event-upmc-schools-of-nursing-2/
LOCATION:UPMC Health Plan Neighborhood Center\, 6401 Penn Ave\, Pittsburgh\, Pennsylvania\, 15206\, United States
CATEGORIES:Nursing
END:VEVENT
BEGIN:VEVENT
DTSTART;TZID=America/New_York:20250312T110000
DTEND;TZID=America/New_York:20250312T130000
DTSTAMP:20260425T023222
CREATED:20250127T160854Z
LAST-MODIFIED:20250127T160854Z
UID:8694-1741777200-1741784400@careers.upmc.com
SUMMARY:UPMC Recruiters @ Mercyhurst University
DESCRIPTION:When our team of more than 20\,000 nurses chose to work at UPMC\, they chose more than just a job. They chose excellence\, culture\, flexibility\, growth\, and more. We empower\, support\, and partner with nurses starting on day one of their careers – ensuring that becoming a nurse at UPMC is a choice you can be confident in. \nWhat to expect:\n\nMeet with Recruiters\nGeneral Q&A\nGiveaways/Prizes\n\n  \nRegister
URL:https://careers.upmc.com/event/upmc-recruiters-mercyhurst-university/
LOCATION:Mercyhurst University – Nursing Building\, 444 E Grandview Blvd\, Erie\, Pennsylvania\, 16546\, United States
CATEGORIES:Nursing
END:VEVENT
BEGIN:VEVENT
DTSTART;TZID=America/New_York:20250314T090000
DTEND;TZID=America/New_York:20250314T150000
DTSTAMP:20260425T023222
CREATED:20250212T110317Z
LAST-MODIFIED:20250212T110317Z
UID:8729-1741942800-1741964400@careers.upmc.com
SUMMARY:Walk-In Hiring Event @ UPMC Community Provider Services
DESCRIPTION:When our team of more than 20\,000 nurses chose to work at UPMC\, they chose more than just a job. They chose excellence\, culture\, flexibility\, growth\, and more. We empower\, support\, and partner with nurses starting on day one of their careers – ensuring that becoming a nurse at UPMC is a choice you can be confident in. \nWhat to expect at this event:\n\nMeet with Hiring Managers\nInterviews\n\nWho should attend:\nThis event is focused on triage nursing\, nurse clinical care coordinator\, and paramedic roles.  \nRegister
URL:https://careers.upmc.com/event/walk-in-hiring-event-upmc-community-provider-services-2/
LOCATION:UPMC Harbor Gardens Building\, 1650 Metropolitan St\, Pittsburgh\, Pennsylvania\, 15233\, United States
CATEGORIES:Nursing
END:VEVENT
END:VCALENDAR