BEGIN:VCALENDAR
VERSION:2.0
PRODID:-//UPMC - ECPv6.15.12.2//NONSGML v1.0//EN
CALSCALE:GREGORIAN
METHOD:PUBLISH
X-WR-CALNAME:UPMC
X-ORIGINAL-URL:https://careers.upmc.com
X-WR-CALDESC:Events for UPMC
REFRESH-INTERVAL;VALUE=DURATION:PT1H
X-Robots-Tag:noindex
X-PUBLISHED-TTL:PT1H
BEGIN:VTIMEZONE
TZID:America/New_York
BEGIN:DAYLIGHT
TZOFFSETFROM:-0500
TZOFFSETTO:-0400
TZNAME:EDT
DTSTART:20240310T070000
END:DAYLIGHT
BEGIN:STANDARD
TZOFFSETFROM:-0400
TZOFFSETTO:-0500
TZNAME:EST
DTSTART:20241103T060000
END:STANDARD
BEGIN:DAYLIGHT
TZOFFSETFROM:-0500
TZOFFSETTO:-0400
TZNAME:EDT
DTSTART:20250309T070000
END:DAYLIGHT
BEGIN:STANDARD
TZOFFSETFROM:-0400
TZOFFSETTO:-0500
TZNAME:EST
DTSTART:20251102T060000
END:STANDARD
BEGIN:DAYLIGHT
TZOFFSETFROM:-0500
TZOFFSETTO:-0400
TZNAME:EDT
DTSTART:20260308T070000
END:DAYLIGHT
BEGIN:STANDARD
TZOFFSETFROM:-0400
TZOFFSETTO:-0500
TZNAME:EST
DTSTART:20261101T060000
END:STANDARD
END:VTIMEZONE
BEGIN:VEVENT
DTSTART;TZID=America/New_York:20250314T090000
DTEND;TZID=America/New_York:20250314T150000
DTSTAMP:20260425T123701
CREATED:20250212T110317Z
LAST-MODIFIED:20250212T110317Z
UID:8729-1741942800-1741964400@careers.upmc.com
SUMMARY:Walk-In Hiring Event @ UPMC Community Provider Services
DESCRIPTION:When our team of more than 20\,000 nurses chose to work at UPMC\, they chose more than just a job. They chose excellence\, culture\, flexibility\, growth\, and more. We empower\, support\, and partner with nurses starting on day one of their careers – ensuring that becoming a nurse at UPMC is a choice you can be confident in. \nWhat to expect at this event:\n\nMeet with Hiring Managers\nInterviews\n\nWho should attend:\nThis event is focused on triage nursing\, nurse clinical care coordinator\, and paramedic roles.  \nRegister
URL:https://careers.upmc.com/event/walk-in-hiring-event-upmc-community-provider-services-2/
LOCATION:UPMC Harbor Gardens Building\, 1650 Metropolitan St\, Pittsburgh\, Pennsylvania\, 15233\, United States
CATEGORIES:Nursing
END:VEVENT
BEGIN:VEVENT
DTSTART;TZID=America/New_York:20250806T090000
DTEND;TZID=America/New_York:20250806T100000
DTSTAMP:20260425T123701
CREATED:20250709T164646Z
LAST-MODIFIED:20250709T164646Z
UID:9119-1754470800-1754474400@careers.upmc.com
SUMMARY:Nursing - Virtual Meet-the-Team: Up Close with UPMC
DESCRIPTION:When our team of more than 20\,000 nurses chose to work at UPMC\, they chose more than just a job. They chose excellence\, culture\, flexibility\, growth\, and more. We empower\, support\, and partner with nurses starting on day one of their careers – ensuring that becoming a nurse at UPMC is a choice you can be confident in. \nWhat to expect at this event:\n\nMeet with Recruiters\nPresentation\nGeneral Q&A\n\nWho should attend:\nThis event is focused on nursing roles at UPMC in Central Pa. \nRegister
URL:https://careers.upmc.com/event/nursing-virtual-meet-the-team-up-close-with-upmc-2/
LOCATION:Pennsylvania
CATEGORIES:Nursing
END:VEVENT
BEGIN:VEVENT
DTSTART;TZID=America/New_York:20250806T140000
DTEND;TZID=America/New_York:20250806T150000
DTSTAMP:20260425T123701
CREATED:20250709T095001Z
LAST-MODIFIED:20250709T095001Z
UID:9112-1754488800-1754492400@careers.upmc.com
SUMMARY:Nursing - Virtual Meet-the-Team: Up Close with UPMC
DESCRIPTION:When our team of more than 20\,000 nurses chose to work at UPMC\, they chose more than just a job. They chose excellence\, culture\, flexibility\, growth\, and more. We empower\, support\, and partner with nurses starting on day one of their careers – ensuring that becoming a nurse at UPMC is a choice you can be confident in. \nWhat to expect at this event:\n\nMeet with Recruiters\nPresentation\nGeneral Q&A\n\nWho should attend:\nThis event is focused on nursing roles at UPMC in Central Pa. \nRegister
URL:https://careers.upmc.com/event/nursing-virtual-meet-the-team-up-close-with-upmc/
LOCATION:Pennsylvania
CATEGORIES:Nursing
END:VEVENT
BEGIN:VEVENT
DTSTART;TZID=America/New_York:20250806T170000
DTEND;TZID=America/New_York:20250806T180000
DTSTAMP:20260425T123701
CREATED:20250709T165008Z
LAST-MODIFIED:20250709T165008Z
UID:9122-1754499600-1754503200@careers.upmc.com
SUMMARY:Nursing - Virtual Meet-the-Team: Up Close with UPMC
DESCRIPTION:When our team of more than 20\,000 nurses chose to work at UPMC\, they chose more than just a job. They chose excellence\, culture\, flexibility\, growth\, and more. We empower\, support\, and partner with nurses starting on day one of their careers – ensuring that becoming a nurse at UPMC is a choice you can be confident in. \nWhat to expect at this event:\n\nMeet with Recruiters\nPresentation\nGeneral Q&A\n\nWho should attend:\nThis event is focused on nursing roles at UPMC in Central Pa. \nRegister
URL:https://careers.upmc.com/event/nursing-virtual-meet-the-team-up-close-with-upmc-3/
LOCATION:Pennsylvania
CATEGORIES:Nursing
END:VEVENT
BEGIN:VEVENT
DTSTART;TZID=America/New_York:20251022T150000
DTEND;TZID=America/New_York:20251022T180000
DTSTAMP:20260425T123701
CREATED:20250910T174952Z
LAST-MODIFIED:20250910T174952Z
UID:9318-1761145200-1761156000@careers.upmc.com
SUMMARY:UPMC Home Health & Hospice Open House
DESCRIPTION:Nursing and nursing support roles are the backbone of UPMC\, providing essential care and support to patients and their families. Whether you’re considering a career as a nurse\, a nursing assistant\, or a specialized role\, this event will offer valuable insights to the opportunities you can take\, the skills you’ll need\, and the impact you can make in home health care. \nWhat to expect at this event:\n\nMeet with Hiring Managers\nTours\nRefreshments\nPrizes/Giveaways\n\nWho should attend:\nThis event is focused on nursing and patient care support roles. \nRegister
URL:https://careers.upmc.com/event/upmc-home-health-hospice-open-house/
LOCATION:Modern Tool Square Building\, 310 French St\, Erie\, Pennsylvania\, 16507\, United States
CATEGORIES:Nursing
END:VEVENT
BEGIN:VEVENT
DTSTART;TZID=America/New_York:20251030T090000
DTEND;TZID=America/New_York:20251030T153000
DTSTAMP:20260425T123701
CREATED:20250908T165200Z
LAST-MODIFIED:20250908T165200Z
UID:9370-1761814800-1761838200@careers.upmc.com
SUMMARY:Job Haunt - Discover Nursing Careers @ UPMC North Central PA
DESCRIPTION:When our team of more than 20\,000 nurses chose to work at UPMC\, they chose more than just a job. They chose excellence\, culture\, flexibility\, growth\, and more. We empower\, support\, and partner with nurses starting on day one of their careers\, ensuring that becoming a nurse at UPMC is a choice you can be confident in. \nWhat to expect:\n\nMeet with Recruiters\n\nWho should attend:\nThis event is focused on nursing roles at UPMC North Central PA. \nRegister
URL:https://careers.upmc.com/event/job-haunt-discover-nursing-careers-upmc-north-central-pa/
LOCATION:Pennsylvania
CATEGORIES:Nursing
END:VEVENT
END:VCALENDAR