BEGIN:VCALENDAR
VERSION:2.0
PRODID:-//UPMC - ECPv6.15.12.2//NONSGML v1.0//EN
CALSCALE:GREGORIAN
METHOD:PUBLISH
X-WR-CALNAME:UPMC
X-ORIGINAL-URL:https://careers.upmc.com
X-WR-CALDESC:Events for UPMC
REFRESH-INTERVAL;VALUE=DURATION:PT1H
X-Robots-Tag:noindex
X-PUBLISHED-TTL:PT1H
BEGIN:VTIMEZONE
TZID:America/New_York
BEGIN:DAYLIGHT
TZOFFSETFROM:-0500
TZOFFSETTO:-0400
TZNAME:EDT
DTSTART:20240310T070000
END:DAYLIGHT
BEGIN:STANDARD
TZOFFSETFROM:-0400
TZOFFSETTO:-0500
TZNAME:EST
DTSTART:20241103T060000
END:STANDARD
BEGIN:DAYLIGHT
TZOFFSETFROM:-0500
TZOFFSETTO:-0400
TZNAME:EDT
DTSTART:20250309T070000
END:DAYLIGHT
BEGIN:STANDARD
TZOFFSETFROM:-0400
TZOFFSETTO:-0500
TZNAME:EST
DTSTART:20251102T060000
END:STANDARD
BEGIN:DAYLIGHT
TZOFFSETFROM:-0500
TZOFFSETTO:-0400
TZNAME:EDT
DTSTART:20260308T070000
END:DAYLIGHT
BEGIN:STANDARD
TZOFFSETFROM:-0400
TZOFFSETTO:-0500
TZNAME:EST
DTSTART:20261101T060000
END:STANDARD
END:VTIMEZONE
BEGIN:VEVENT
DTSTART;TZID=America/New_York:20251001T130000
DTEND;TZID=America/New_York:20251001T160000
DTSTAMP:20260424T163744
CREATED:20250812T170208Z
LAST-MODIFIED:20250812T170208Z
UID:9255-1759323600-1759334400@careers.upmc.com
SUMMARY:UPMC Careers - Virtual Chat
DESCRIPTION:Current students and recent graduates seeking careers in imaging\, labs\, nursing\, respiratory\, or surgical services roles can connect with a UPMC recruitment concierge for a 30-minute phone call to chat through questions regarding UPMC opportunities. When you say yes to a career with UPMC\, you are saying yes to a chance to use your experiences and interests to help patients and communities have a better\, brighter\, fuller future.  \nWhat to expect at this event:\n\nOne-on-one Conversation with Recruitment\nJob Search\nResume Assistance\nApplication Guidance\nInterview Preparation\nStudent and Recent Graduate Career Assistance\n\nWho should attend:\nThis event is focused on current students and recent graduates seeking imaging\, labs\, nursing\, respiratory\, or surgical services roles. Select your desired date and time to speak with a recruiter by using this link.
URL:https://careers.upmc.com/event/upmc-careers-virtual-chat-8/
LOCATION:Pennsylvania
CATEGORIES:Student
END:VEVENT
BEGIN:VEVENT
DTSTART;TZID=America/New_York:20251016T090000
DTEND;TZID=America/New_York:20251016T120000
DTSTAMP:20260424T163744
CREATED:20250813T165026Z
LAST-MODIFIED:20250813T165026Z
UID:9257-1760605200-1760616000@careers.upmc.com
SUMMARY:UPMC Careers - Virtual Chat
DESCRIPTION:Current students and recent graduates seeking careers in imaging\, labs\, nursing\, respiratory\, or surgical services roles can connect with a UPMC recruitment concierge for a 30-minute phone call to chat through questions regarding UPMC opportunities. When you say yes to a career with UPMC\, you are saying yes to a chance to use your experiences and interests to help patients and communities have a better\, brighter\, fuller future.  \nWhat to expect at this event:\n\nOne-on-one Conversation with Recruitment\nJob Search\nResume Assistance\nApplication Guidance\nInterview Preparation\nStudent and Recent Graduate Career Assistance\n\nWho should attend:\nThis event is focused on current students and recent graduates seeking imaging\, labs\, nursing\, respiratory\, or surgical services roles. Select your desired date and time to speak with a recruiter by using this link.
URL:https://careers.upmc.com/event/upmc-careers-virtual-chat-9/
LOCATION:Pennsylvania
CATEGORIES:Student
END:VEVENT
BEGIN:VEVENT
DTSTART;TZID=America/New_York:20251017T120000
DTEND;TZID=America/New_York:20251017T160000
DTSTAMP:20260424T163744
CREATED:20251002T170259Z
LAST-MODIFIED:20251002T170259Z
UID:9480-1760702400-1760716800@careers.upmc.com
SUMMARY:CONival Event @ Penn State
DESCRIPTION:When our team of more than 20\,000 nurses chose to work at UPMC\, they chose more than just a job. They chose excellence\, culture\, flexibility\, growth\, and more. We empower\, support\, and partner with nurses starting on day one of their careers\, ensuring that becoming a nurse at UPMC is a choice you can be confident in. \nWhat to expect:\n\nMeet with Recruiters\nResume & Job Search Assistance\nJob Shadowing\n\nWho should attend:\nThis event is focused on nursing students. 
URL:https://careers.upmc.com/event/conival-event-penn-state-2/
LOCATION:Penn State-Nursing Sciences Building\, 235 E Coll\, State College\, Pennsylvania\, 16801\, United States
CATEGORIES:Student
END:VEVENT
BEGIN:VEVENT
DTSTART;TZID=America/New_York:20251027T130000
DTEND;TZID=America/New_York:20251027T160000
DTSTAMP:20260424T163744
CREATED:20250813T165336Z
LAST-MODIFIED:20250813T165336Z
UID:9258-1761570000-1761580800@careers.upmc.com
SUMMARY:UPMC Careers - Virtual Chat
DESCRIPTION:Current students and recent graduates seeking careers in imaging\, labs\, nursing\, respiratory\, or surgical services roles can connect with a UPMC recruitment concierge for a 30-minute phone call to chat through questions regarding UPMC opportunities. When you say yes to a career with UPMC\, you are saying yes to a chance to use your experiences and interests to help patients and communities have a better\, brighter\, fuller future.  \nWhat to expect at this event:\n\nOne-on-one Conversation with Recruitment\nJob Search\nResume Assistance\nApplication Guidance\nInterview Preparation\nStudent and Recent Graduate Career Assistance\n\nWho should attend:\nThis event is focused on current students and recent graduates seeking imaging\, labs\, nursing\, respiratory\, or surgical services roles. Select your desired date and time to speak with a recruiter by using this link.
URL:https://careers.upmc.com/event/upmc-careers-virtual-chat-10/
LOCATION:Pennsylvania
CATEGORIES:Student
END:VEVENT
BEGIN:VEVENT
DTSTART;TZID=America/New_York:20251029T120000
DTEND;TZID=America/New_York:20251029T130000
DTSTAMP:20260424T163744
CREATED:20251020T125255Z
LAST-MODIFIED:20251020T125255Z
UID:9550-1761739200-1761742800@careers.upmc.com
SUMMARY:Chat with Recruiters @ UPMC Western Maryland
DESCRIPTION:Whether you’re interested in nursing\, patient care support\, imaging\, or allied health – UPMC has endless opportunities for you to pursue a meaningful career. When you say yes to a career with UPMC\, you are saying yes to a chance to use your experiences and interests to help patients and communities have a better\, brighter\, fuller future. \nWhat to expect:\n\nResume & Job Search Assistance\nMeet with Recruiters\nRefreshments\n\nWho should attend:\nThis event is focused on nursing\, patient care support\, imaging\, and allied health roles at UPMC Western Maryland.
URL:https://careers.upmc.com/event/chat-with-recruiters-upmc-western-maryland/
LOCATION:UPMC Western Maryland\, 12500 Willowbrook Rd\, Cumberland\, Maryland\, 21502\, United States
CATEGORIES:Student
END:VEVENT
END:VCALENDAR