BEGIN:VCALENDAR
VERSION:2.0
PRODID:-//UPMC - ECPv6.15.12.2//NONSGML v1.0//EN
CALSCALE:GREGORIAN
METHOD:PUBLISH
X-ORIGINAL-URL:https://careers.upmc.com
X-WR-CALDESC:Events for UPMC
REFRESH-INTERVAL;VALUE=DURATION:PT1H
X-Robots-Tag:noindex
X-PUBLISHED-TTL:PT1H
BEGIN:VTIMEZONE
TZID:America/New_York
BEGIN:DAYLIGHT
TZOFFSETFROM:-0500
TZOFFSETTO:-0400
TZNAME:EDT
DTSTART:20250309T070000
END:DAYLIGHT
BEGIN:STANDARD
TZOFFSETFROM:-0400
TZOFFSETTO:-0500
TZNAME:EST
DTSTART:20251102T060000
END:STANDARD
BEGIN:DAYLIGHT
TZOFFSETFROM:-0500
TZOFFSETTO:-0400
TZNAME:EDT
DTSTART:20260308T070000
END:DAYLIGHT
BEGIN:STANDARD
TZOFFSETFROM:-0400
TZOFFSETTO:-0500
TZNAME:EST
DTSTART:20261101T060000
END:STANDARD
BEGIN:DAYLIGHT
TZOFFSETFROM:-0500
TZOFFSETTO:-0400
TZNAME:EDT
DTSTART:20270314T070000
END:DAYLIGHT
BEGIN:STANDARD
TZOFFSETFROM:-0400
TZOFFSETTO:-0500
TZNAME:EST
DTSTART:20271107T060000
END:STANDARD
END:VTIMEZONE
BEGIN:VEVENT
DTSTART;TZID=America/New_York:20260109T100000
DTEND;TZID=America/New_York:20260109T130000
DTSTAMP:20260424T110430
CREATED:20251216T184407Z
LAST-MODIFIED:20251216T184407Z
UID:9732-1767952800-1767963600@careers.upmc.com
SUMMARY:UPMC Careers - Virtual Chat
DESCRIPTION:Current students and recent graduates seeking careers in imaging\, labs\, nursing\, respiratory\, or surgical services roles can connect with a UPMC recruitment concierge for a 30-minute phone call to chat through questions regarding UPMC opportunities. When you say yes to a career with UPMC\, you are saying yes to a chance to use your experiences and interests to help patients and communities have a better\, brighter\, fuller future.  \nWhat to expect at this event:\n\nOne-on-one Conversation with Recruitment\nJob Search\nResume Assistance\nApplication Guidance\nInterview Preparation\nStudent and Recent Graduate Career Assistance\n\nWho should attend:\nThis event is focused on current students and recent graduates seeking imaging\, labs\, nursing\, respiratory\, or surgical services roles. Select your desired date and time to speak with a recruiter by using this link.
URL:https://careers.upmc.com/event/upmc-careers-virtual-chat-14/
LOCATION:Pennsylvania
CATEGORIES:Student
END:VEVENT
BEGIN:VEVENT
DTSTART;TZID=America/New_York:20260120T090000
DTEND;TZID=America/New_York:20260120T120000
DTSTAMP:20260424T110430
CREATED:20251216T184641Z
LAST-MODIFIED:20251216T184641Z
UID:9733-1768899600-1768910400@careers.upmc.com
SUMMARY:UPMC Careers - Virtual Chat
DESCRIPTION:Current students and recent graduates seeking careers in imaging\, labs\, nursing\, respiratory\, or surgical services roles can connect with a UPMC recruitment concierge for a 30-minute phone call to chat through questions regarding UPMC opportunities. When you say yes to a career with UPMC\, you are saying yes to a chance to use your experiences and interests to help patients and communities have a better\, brighter\, fuller future.  \nWhat to expect at this event:\n\nOne-on-one Conversation with Recruitment\nJob Search\nResume Assistance\nApplication Guidance\nInterview Preparation\nStudent and Recent Graduate Career Assistance\n\nWho should attend:\nThis event is focused on current students and recent graduates seeking imaging\, labs\, nursing\, respiratory\, or surgical services roles. Select your desired date and time to speak with a recruiter by using this link.
URL:https://careers.upmc.com/event/upmc-careers-virtual-chat-15/
LOCATION:Pennsylvania
CATEGORIES:Student
END:VEVENT
END:VCALENDAR