BEGIN:VCALENDAR
VERSION:2.0
PRODID:-//UPMC - ECPv6.15.12.2//NONSGML v1.0//EN
CALSCALE:GREGORIAN
METHOD:PUBLISH
X-WR-CALNAME:UPMC
X-ORIGINAL-URL:https://careers.upmc.com
X-WR-CALDESC:Events for UPMC
REFRESH-INTERVAL;VALUE=DURATION:PT1H
X-Robots-Tag:noindex
X-PUBLISHED-TTL:PT1H
BEGIN:VTIMEZONE
TZID:America/New_York
BEGIN:DAYLIGHT
TZOFFSETFROM:-0500
TZOFFSETTO:-0400
TZNAME:EDT
DTSTART:20250309T070000
END:DAYLIGHT
BEGIN:STANDARD
TZOFFSETFROM:-0400
TZOFFSETTO:-0500
TZNAME:EST
DTSTART:20251102T060000
END:STANDARD
BEGIN:DAYLIGHT
TZOFFSETFROM:-0500
TZOFFSETTO:-0400
TZNAME:EDT
DTSTART:20260308T070000
END:DAYLIGHT
BEGIN:STANDARD
TZOFFSETFROM:-0400
TZOFFSETTO:-0500
TZNAME:EST
DTSTART:20261101T060000
END:STANDARD
BEGIN:DAYLIGHT
TZOFFSETFROM:-0500
TZOFFSETTO:-0400
TZNAME:EDT
DTSTART:20270314T070000
END:DAYLIGHT
BEGIN:STANDARD
TZOFFSETFROM:-0400
TZOFFSETTO:-0500
TZNAME:EST
DTSTART:20271107T060000
END:STANDARD
END:VTIMEZONE
BEGIN:VEVENT
DTSTART;TZID=America/New_York:20260302T130000
DTEND;TZID=America/New_York:20260302T160000
DTSTAMP:20260424T073857
CREATED:20251216T185146Z
LAST-MODIFIED:20251216T185146Z
UID:9736-1772456400-1772467200@careers.upmc.com
SUMMARY:UPMC Careers - Virtual Chat
DESCRIPTION:Current students and recent graduates seeking careers in imaging\, labs\, nursing\, respiratory\, or surgical services roles can connect with a UPMC recruitment concierge for a 30-minute phone call to chat through questions regarding UPMC opportunities. When you say yes to a career with UPMC\, you are saying yes to a chance to use your experiences and interests to help patients and communities have a better\, brighter\, fuller future.  \nWhat to expect at this event:\n\nOne-on-one Conversation with Recruitment\nJob Search\nResume Assistance\nApplication Guidance\nInterview Preparation\nStudent and Recent Graduate Career Assistance\n\nWho should attend:\nThis event is focused on current students and recent graduates seeking imaging\, labs\, nursing\, respiratory\, or surgical services roles. Select your desired date and time to speak with a recruiter by using this link.
URL:https://careers.upmc.com/event/upmc-careers-virtual-chat-18/
LOCATION:Pennsylvania
CATEGORIES:Student
END:VEVENT
BEGIN:VEVENT
DTSTART;TZID=America/New_York:20260319T090000
DTEND;TZID=America/New_York:20260319T120000
DTSTAMP:20260424T073857
CREATED:20251216T185315Z
LAST-MODIFIED:20251216T185315Z
UID:9737-1773910800-1773921600@careers.upmc.com
SUMMARY:UPMC Careers - Virtual Chat
DESCRIPTION:Current students and recent graduates seeking careers in imaging\, labs\, nursing\, respiratory\, or surgical services roles can connect with a UPMC recruitment concierge for a 30-minute phone call to chat through questions regarding UPMC opportunities. When you say yes to a career with UPMC\, you are saying yes to a chance to use your experiences and interests to help patients and communities have a better\, brighter\, fuller future.  \nWhat to expect at this event:\n\nOne-on-one Conversation with Recruitment\nJob Search\nResume Assistance\nApplication Guidance\nInterview Preparation\nStudent and Recent Graduate Career Assistance\n\nWho should attend:\nThis event is focused on current students and recent graduates seeking imaging\, labs\, nursing\, respiratory\, or surgical services roles. Select your desired date and time to speak with a recruiter by using this link.
URL:https://careers.upmc.com/event/upmc-careers-virtual-chat-19/
LOCATION:Pennsylvania
CATEGORIES:Student
END:VEVENT
BEGIN:VEVENT
DTSTART;TZID=America/New_York:20260327T120000
DTEND;TZID=America/New_York:20260327T130000
DTSTAMP:20260424T073857
CREATED:20260129T174143Z
LAST-MODIFIED:20260129T174143Z
UID:9807-1774612800-1774616400@careers.upmc.com
SUMMARY:Chat with Recruiters @ UPMC Western Maryland
DESCRIPTION:Whether you’re interested in nursing\, patient care support\, imaging\, or allied health – UPMC has endless opportunities for you to pursue a meaningful career. When you say yes to a career with UPMC\, you are saying yes to a chance to use your experiences and interests to help patients and communities have a better\, brighter\, fuller future. \nWhat to expect:\n\nResume & Job Search Assistance\nMeet with Recruiters\nRefreshments\n\nWho should attend:\nThis event is focused on nursing\, patient care support\, imaging\, and allied health roles at UPMC Western Maryland.
URL:https://careers.upmc.com/event/chat-with-recruiters-upmc-western-maryland-5/
LOCATION:UPMC Western Maryland\, 12500 Willowbrook Rd\, Cumberland\, Maryland\, 21502\, United States
CATEGORIES:Student
END:VEVENT
END:VCALENDAR