BEGIN:VCALENDAR
VERSION:2.0
PRODID:-//UPMC - ECPv6.15.12.2//NONSGML v1.0//EN
CALSCALE:GREGORIAN
METHOD:PUBLISH
X-ORIGINAL-URL:https://careers.upmc.com
X-WR-CALDESC:Events for UPMC
REFRESH-INTERVAL;VALUE=DURATION:PT1H
X-Robots-Tag:noindex
X-PUBLISHED-TTL:PT1H
BEGIN:VTIMEZONE
TZID:America/New_York
BEGIN:DAYLIGHT
TZOFFSETFROM:-0500
TZOFFSETTO:-0400
TZNAME:EDT
DTSTART:20230312T070000
END:DAYLIGHT
BEGIN:STANDARD
TZOFFSETFROM:-0400
TZOFFSETTO:-0500
TZNAME:EST
DTSTART:20231105T060000
END:STANDARD
BEGIN:DAYLIGHT
TZOFFSETFROM:-0500
TZOFFSETTO:-0400
TZNAME:EDT
DTSTART:20240310T070000
END:DAYLIGHT
BEGIN:STANDARD
TZOFFSETFROM:-0400
TZOFFSETTO:-0500
TZNAME:EST
DTSTART:20241103T060000
END:STANDARD
BEGIN:DAYLIGHT
TZOFFSETFROM:-0500
TZOFFSETTO:-0400
TZNAME:EDT
DTSTART:20250309T070000
END:DAYLIGHT
BEGIN:STANDARD
TZOFFSETFROM:-0400
TZOFFSETTO:-0500
TZNAME:EST
DTSTART:20251102T060000
END:STANDARD
BEGIN:DAYLIGHT
TZOFFSETFROM:-0500
TZOFFSETTO:-0400
TZNAME:EDT
DTSTART:20260308T070000
END:DAYLIGHT
BEGIN:STANDARD
TZOFFSETFROM:-0400
TZOFFSETTO:-0500
TZNAME:EST
DTSTART:20261101T060000
END:STANDARD
END:VTIMEZONE
BEGIN:VEVENT
DTSTART;TZID=America/New_York:20251017T120000
DTEND;TZID=America/New_York:20251017T160000
DTSTAMP:20260424T094522
CREATED:20251002T170259Z
LAST-MODIFIED:20251002T170259Z
UID:9480-1760702400-1760716800@careers.upmc.com
SUMMARY:CONival Event @ Penn State
DESCRIPTION:When our team of more than 20\,000 nurses chose to work at UPMC\, they chose more than just a job. They chose excellence\, culture\, flexibility\, growth\, and more. We empower\, support\, and partner with nurses starting on day one of their careers\, ensuring that becoming a nurse at UPMC is a choice you can be confident in. \nWhat to expect:\n\nMeet with Recruiters\nResume & Job Search Assistance\nJob Shadowing\n\nWho should attend:\nThis event is focused on nursing students. 
URL:https://careers.upmc.com/event/conival-event-penn-state-2/
LOCATION:Penn State-Nursing Sciences Building\, 235 E Coll\, State College\, Pennsylvania\, 16801\, United States
CATEGORIES:Student
END:VEVENT
BEGIN:VEVENT
DTSTART;TZID=America/New_York:20251016T090000
DTEND;TZID=America/New_York:20251016T120000
DTSTAMP:20260424T094522
CREATED:20250813T165026Z
LAST-MODIFIED:20250813T165026Z
UID:9257-1760605200-1760616000@careers.upmc.com
SUMMARY:UPMC Careers - Virtual Chat
DESCRIPTION:Current students and recent graduates seeking careers in imaging\, labs\, nursing\, respiratory\, or surgical services roles can connect with a UPMC recruitment concierge for a 30-minute phone call to chat through questions regarding UPMC opportunities. When you say yes to a career with UPMC\, you are saying yes to a chance to use your experiences and interests to help patients and communities have a better\, brighter\, fuller future.  \nWhat to expect at this event:\n\nOne-on-one Conversation with Recruitment\nJob Search\nResume Assistance\nApplication Guidance\nInterview Preparation\nStudent and Recent Graduate Career Assistance\n\nWho should attend:\nThis event is focused on current students and recent graduates seeking imaging\, labs\, nursing\, respiratory\, or surgical services roles. Select your desired date and time to speak with a recruiter by using this link.
URL:https://careers.upmc.com/event/upmc-careers-virtual-chat-9/
CATEGORIES:Student
END:VEVENT
BEGIN:VEVENT
DTSTART;TZID=America/New_York:20251001T130000
DTEND;TZID=America/New_York:20251001T160000
DTSTAMP:20260424T094522
CREATED:20250812T170208Z
LAST-MODIFIED:20250812T170208Z
UID:9255-1759323600-1759334400@careers.upmc.com
SUMMARY:UPMC Careers - Virtual Chat
DESCRIPTION:Current students and recent graduates seeking careers in imaging\, labs\, nursing\, respiratory\, or surgical services roles can connect with a UPMC recruitment concierge for a 30-minute phone call to chat through questions regarding UPMC opportunities. When you say yes to a career with UPMC\, you are saying yes to a chance to use your experiences and interests to help patients and communities have a better\, brighter\, fuller future.  \nWhat to expect at this event:\n\nOne-on-one Conversation with Recruitment\nJob Search\nResume Assistance\nApplication Guidance\nInterview Preparation\nStudent and Recent Graduate Career Assistance\n\nWho should attend:\nThis event is focused on current students and recent graduates seeking imaging\, labs\, nursing\, respiratory\, or surgical services roles. Select your desired date and time to speak with a recruiter by using this link.
URL:https://careers.upmc.com/event/upmc-careers-virtual-chat-8/
CATEGORIES:Student
END:VEVENT
BEGIN:VEVENT
DTSTART;TZID=America/New_York:20250916T090000
DTEND;TZID=America/New_York:20250916T120000
DTSTAMP:20260424T094522
CREATED:20250811T105127Z
LAST-MODIFIED:20250811T105127Z
UID:9247-1758013200-1758024000@careers.upmc.com
SUMMARY:UPMC Careers - Virtual Chat
DESCRIPTION:Current students and recent graduates seeking careers in imaging\, labs\, nursing\, respiratory\, or surgical services roles can connect with a UPMC recruitment concierge for a 30-minute phone call to chat through questions regarding UPMC opportunities. When you say yes to a career with UPMC\, you are saying yes to a chance to use your experiences and interests to help patients and communities have a better\, brighter\, fuller future.  \nWhat to expect at this event:\n\nOne-on-one Conversation with Recruitment\nJob Search\nResume Assistance\nApplication Guidance\nInterview Preparation\nStudent and Recent Graduate Career Assistance\n\nWho should attend:\nThis event is focused on current students and recent graduates seeking imaging\, labs\, nursing\, respiratory\, or surgical services roles. Select your desired date and time to speak with a recruiter by using this link.
URL:https://careers.upmc.com/event/upmc-careers-virtual-chat-7/
CATEGORIES:Student
END:VEVENT
BEGIN:VEVENT
DTSTART;TZID=America/New_York:20250905T100000
DTEND;TZID=America/New_York:20250905T130000
DTSTAMP:20260424T094522
CREATED:20250806T122617Z
LAST-MODIFIED:20250806T122617Z
UID:9236-1757066400-1757077200@careers.upmc.com
SUMMARY:UPMC Careers - Virtual Chat
DESCRIPTION:Current students and recent graduates seeking careers in imaging\, labs\, nursing\, respiratory\, or surgical services roles can connect with a UPMC recruitment concierge for a 30-minute phone call to chat through questions regarding UPMC opportunities. When you say yes to a career with UPMC\, you are saying yes to a chance to use your experiences and interests to help patients and communities have a better\, brighter\, fuller future.  \nWhat to expect at this event:\n\nOne-on-one Conversation with Recruitment\nJob Search\nResume Assistance\nApplication Guidance\nInterview Preparation\nStudent and Recent Graduate Career Assistance\n\nWho should attend:\nThis event is focused on current students and recent graduates seeking imaging\, labs\, nursing\, respiratory\, or surgical services roles. Select your desired date and time to speak with a recruiter by using this link.
URL:https://careers.upmc.com/event/upmc-careers-virtual-chat-6/
CATEGORIES:Student
END:VEVENT
BEGIN:VEVENT
DTSTART;TZID=America/New_York:20250828T110000
DTEND;TZID=America/New_York:20250828T143000
DTSTAMP:20260424T094522
CREATED:20250825T160714Z
LAST-MODIFIED:20250825T160714Z
UID:9250-1756378800-1756391400@careers.upmc.com
SUMMARY:Find Your Fit @ UPMC Presbyterian & UPMC Shadyside
DESCRIPTION:UPMC Presbyterian and UPMC Shadyside are both teaching hospitals with a strong community feel. This is a wonderful opportunity to work in a fast-paced environment and impact the lives of a wide variety of patient populations. UPMC Presbyterian and UPMC Shadyside are both Magnet® designated facilities and considered to be recognized leaders in organ transplantation\, cardiology and cardiothoracic surgery\, critical care medicine\, trauma services\, post-surgical care\, a renowned teaching hospital\, and a center for ongoing cutting-edge research. \nWhat to expect:\n\nInterviews\nMeet with Recruiters\nMeet with Hiring Managers\n\nWho should attend:\nThis event is focused on various nursing support and patient care support roles including: \n\nPatient Care Technician\nNursing Assistant\nPatient & Family Concierge\nRegistered Nurse\nMedical Assistant\nPhlebotomist
URL:https://careers.upmc.com/event/find-your-fit-upmc-presbyterian-upmc-shadyside-9/
LOCATION:UPMC Shadyside\, 5230 Centre Ave\, Pittsburgh\, Pennsylvania\, 15232\, United States
CATEGORIES:Student
END:VEVENT
BEGIN:VEVENT
DTSTART;TZID=America/New_York:20250821T090000
DTEND;TZID=America/New_York:20250821T120000
DTSTAMP:20260424T094522
CREATED:20250626T181509Z
LAST-MODIFIED:20250626T181509Z
UID:9099-1755766800-1755777600@careers.upmc.com
SUMMARY:UPMC Careers - Virtual Chat
DESCRIPTION:Current students and recent graduates seeking careers in imaging\, labs\, nursing\, respiratory\, or surgical services roles can connect with a UPMC recruitment concierge for a 30-minute phone call to chat through questions regarding UPMC opportunities. When you say yes to a career with UPMC\, you are saying yes to a chance to use your experiences and interests to help patients and communities have a better\, brighter\, fuller future.  \nWhat to expect at this event:\n\nOne-on-one Conversation with Recruitment\nJob Search\nResume Assistance\nApplication Guidance\nInterview Preparation\nStudent and Recent Graduate Career Assistance\n\nWho should attend:\nThis event is focused on current students and recent graduates seeking imaging\, labs\, nursing\, respiratory\, or surgical services roles. Select your desired date and time to speak with a recruiter by using this link.
URL:https://careers.upmc.com/event/upmc-careers-virtual-chat-5/
CATEGORIES:Student
END:VEVENT
BEGIN:VEVENT
DTSTART;TZID=America/New_York:20250805T100000
DTEND;TZID=America/New_York:20250805T130000
DTSTAMP:20260424T094522
CREATED:20250626T181151Z
LAST-MODIFIED:20250626T181151Z
UID:9098-1754388000-1754398800@careers.upmc.com
SUMMARY:UPMC Careers - Virtual Chat
DESCRIPTION:Current students and recent graduates seeking careers in imaging\, labs\, nursing\, respiratory\, or surgical services roles can connect with a UPMC recruitment concierge for a 30-minute phone call to chat through questions regarding UPMC opportunities. When you say yes to a career with UPMC\, you are saying yes to a chance to use your experiences and interests to help patients and communities have a better\, brighter\, fuller future.  \nWhat to expect at this event:\n\nOne-on-one Conversation with Recruitment\nJob Search\nResume Assistance\nApplication Guidance\nInterview Preparation\nStudent and Recent Graduate Career Assistance\n\nWho should attend:\nThis event is focused on current students and recent graduates seeking imaging\, labs\, nursing\, respiratory\, or surgical services roles. Select your desired date and time to speak with a recruiter by using this link.
URL:https://careers.upmc.com/event/upmc-careers-virtual-chat-4/
CATEGORIES:Student
END:VEVENT
BEGIN:VEVENT
DTSTART;TZID=America/New_York:20250723T130000
DTEND;TZID=America/New_York:20250723T160000
DTSTAMP:20260424T094522
CREATED:20250620T170814Z
LAST-MODIFIED:20250620T170814Z
UID:9078-1753275600-1753286400@careers.upmc.com
SUMMARY:UPMC Careers - Virtual Chat
DESCRIPTION:Current students and recent graduates seeking careers in imaging\, labs\, nursing\, respiratory\, or surgical services roles can connect with a UPMC recruitment concierge for a 30-minute phone call to chat through questions regarding UPMC opportunities. When you say yes to a career with UPMC\, you are saying yes to a chance to use your experiences and interests to help patients and communities have a better\, brighter\, fuller future.  \nWhat to expect at this event:\n\nOne-on-one Conversation with Recruitment\nJob Search\nResume Assistance\nApplication Guidance\nInterview Preparation\nStudent and Recent Graduate Career Assistance\n\nWho should attend:\nThis event is focused on current students and recent graduates seeking imaging\, labs\, nursing\, respiratory\, or surgical services roles. Select your desired date and time to speak with a recruiter by using this link.
URL:https://careers.upmc.com/event/upmc-careers-virtual-chat-3/
CATEGORIES:Student
END:VEVENT
BEGIN:VEVENT
DTSTART;TZID=America/New_York:20250711T100000
DTEND;TZID=America/New_York:20250711T130000
DTSTAMP:20260424T094522
CREATED:20250620T165930Z
LAST-MODIFIED:20250620T165930Z
UID:9074-1752228000-1752238800@careers.upmc.com
SUMMARY:UPMC Careers - Virtual Chat
DESCRIPTION:Current students and recent graduates seeking careers in imaging\, labs\, nursing\, respiratory\, or surgical services roles can connect with a UPMC recruitment concierge for a 30-minute phone call to chat through questions regarding UPMC opportunities. When you say yes to a career with UPMC\, you are saying yes to a chance to use your experiences and interests to help patients and communities have a better\, brighter\, fuller future.  \nWhat to expect at this event:\n\nOne-on-one Conversation with Recruitment\nJob Search\nResume Assistance\nApplication Guidance\nInterview Preparation\nStudent and Recent Graduate Career Assistance\n\nWho should attend:\nThis event is focused on current students and recent graduates seeking imaging\, labs\, nursing\, respiratory\, or surgical services roles. Select your desired date and time to speak with a recruiter by using this link.
URL:https://careers.upmc.com/event/upmc-careers-virtual-chat-2/
CATEGORIES:Student
END:VEVENT
BEGIN:VEVENT
DTSTART;TZID=America/New_York:20250625T090000
DTEND;TZID=America/New_York:20250625T120000
DTSTAMP:20260424T094522
CREATED:20250620T165729Z
LAST-MODIFIED:20250620T165729Z
UID:9049-1750842000-1750852800@careers.upmc.com
SUMMARY:UPMC Careers - Virtual Chat
DESCRIPTION:Current students and recent graduates seeking careers in imaging\, labs\, nursing\, respiratory\, or surgical services roles can connect with a UPMC recruitment concierge for a 30-minute phone call to chat through questions regarding UPMC opportunities. When you say yes to a career with UPMC\, you are saying yes to a chance to use your experiences and interests to help patients and communities have a better\, brighter\, fuller future.  \nWhat to expect at this event:\n\nOne-on-one Conversation with Recruitment\nJob Search\nResume Assistance\nApplication Guidance\nInterview Preparation\nStudent and Recent Graduate Career Assistance\n\nWho should attend:\nThis event is focused on current students and recent graduates seeking imaging\, labs\, nursing\, respiratory\, or surgical services roles. Select your desired date and time to speak with a recruiter by using this link.
URL:https://careers.upmc.com/event/upmc-careers-virtual-chat/
CATEGORIES:Student
END:VEVENT
BEGIN:VEVENT
DTSTART;TZID=America/New_York:20250610T130000
DTEND;TZID=America/New_York:20250610T160000
DTSTAMP:20260424T094522
CREATED:20250529T172504Z
LAST-MODIFIED:20250529T172504Z
UID:9016-1749560400-1749571200@careers.upmc.com
SUMMARY:UPMC Careers - Virtual Chats
DESCRIPTION:Current students and recent graduates seeking careers in imaging\, labs\, nursing\, respiratory\, or surgical services roles can connect with a UPMC recruitment concierge for a 30-minute phone call to chat through questions regarding UPMC opportunities. When you say yes to a career with UPMC\, you are saying yes to a chance to use your experiences and interests to help patients and communities have a better\, brighter\, fuller future.  \nWhat to expect at this event:\n\nOne-on-one Conversation\nResume Assistance\nApplication Guidance\nInterview Preparation\nStudent and Recent Graduate Job Assistance\n\nWho should attend:\nThis event is focused on current students and recent graduates seeking imaging\, labs\, nursing\, respiratory\, or surgical services roles. Select your desired date and time to speak with a recruiter by using this link.
URL:https://careers.upmc.com/event/upmc-careers-virtual-chats/
CATEGORIES:Student
END:VEVENT
BEGIN:VEVENT
DTSTART;TZID=America/New_York:20250509T110000
DTEND;TZID=America/New_York:20250509T130000
DTSTAMP:20260424T094522
CREATED:20250417T164342Z
LAST-MODIFIED:20250417T164342Z
UID:8892-1746788400-1746795600@careers.upmc.com
SUMMARY:Disability & Mental Health Summit Futures Fair
DESCRIPTION:This event offers educational\, employment\, housing\, leisure\, and support resources for teens & young adults with disabilities. \nWhat to expect:\n\nMeet with Recruiters\nGeneral Q&A
URL:https://careers.upmc.com/event/disability-mental-health-summit-futures-fair/
LOCATION:CCAC – Pittsburgh\, 808 Ridge Ave\, Pittsburgh\, Pennsylvania\, 15233\, United States
CATEGORIES:Student
END:VEVENT
BEGIN:VEVENT
DTSTART;TZID=America/New_York:20250417T090000
DTEND;TZID=America/New_York:20250417T120000
DTSTAMP:20260424T094522
CREATED:20250410T200828Z
LAST-MODIFIED:20250410T200828Z
UID:8748-1744880400-1744891200@careers.upmc.com
SUMMARY:University Relations Career Connect - Allied Health Careers
DESCRIPTION:Current students seeking careers in imaging\, lab\, nursing\, respiratory\, or surgical services roles can connect with a UPMC recruitment concierge for a 30-minute phone call to chat through your questions regarding UPMC opportunities. When you say yes to a career with UPMC\, you are saying yes to a chance to use your experiences and interests to help patients and communities have a better\, brighter\, fuller future. \nWhat to expect at this event:\n\nJob Search & Resume Assistance\nMeet with Recruiters\n\nWho should attend:\nThis event is geared towards students and new grads interested in imaging\, lab\, nursing\, respiratory\, and/or surgical services roles.  Select your desired date and time to speak with a recruiter by using this link.
URL:https://careers.upmc.com/event/upmc-clinical-careers-virtual-coffee-chat-11/
CATEGORIES:Student
END:VEVENT
BEGIN:VEVENT
DTSTART;TZID=America/New_York:20250401T100000
DTEND;TZID=America/New_York:20250401T130000
DTSTAMP:20260424T094522
CREATED:20250328T202647Z
LAST-MODIFIED:20250328T202647Z
UID:8747-1743501600-1743512400@careers.upmc.com
SUMMARY:UPMC Clinical Careers - Virtual Coffee Chat
DESCRIPTION:Whether you’re interested in working at a hospital\, an office\, a laboratory\, or even from home\, UPMC has endless opportunities for you to pursue a meaningful career. When you say yes to a career with UPMC\, you are saying yes to a chance to use your experiences and interests to help patients and communities have a better\, brighter\, fuller future. \nWhat to expect at this event:\n\nJob Search & Resume Assistance\nMeet with Recruiters\n\nWho should attend:\nThis event is focused on nursing\, allied health\, imaging\, and lab roles. Select your desired date and time to speak with a recruiter by using this link.
URL:https://careers.upmc.com/event/upmc-clinical-careers-virtual-coffee-chat-10/
CATEGORIES:Student
END:VEVENT
BEGIN:VEVENT
DTSTART;TZID=America/New_York:20241022T093000
DTEND;TZID=America/New_York:20241022T140000
DTSTAMP:20260424T094522
CREATED:20241014T180943Z
LAST-MODIFIED:20241014T180943Z
UID:8271-1729589400-1729605600@careers.upmc.com
SUMMARY:CareerLink Job Fair @ Tioga County - UPMC North Central Pa.
DESCRIPTION:We’re joining Tioga County CareerLink to chat about UPMC Careers and share info about various career areas including: \n\nHousekeeping\nNursing\nPatient Care Support\nSafety & Security\n\nWe hope to see you there!
URL:https://careers.upmc.com/event/careerlink-job-fair-tioga-county-upmc-north-central-pa/
LOCATION:Wellsboro Area School District\, 227 Nic\, Wellsboro\, Pennsylvania\, 16901\, United States
CATEGORIES:Student
END:VEVENT
BEGIN:VEVENT
DTSTART;TZID=America/New_York:20240515T180000
DTEND;TZID=America/New_York:20240515T190000
DTSTAMP:20260424T094522
CREATED:20240508T193510Z
LAST-MODIFIED:20240508T193510Z
UID:6830-1715796000-1715799600@careers.upmc.com
SUMMARY:From High School to Health Care: UPMC Scholars Virtual Career Event
DESCRIPTION:What to expect at this event:\n\nPresentation\nVirtual Career Event\n\nWho should attend:\nThis event is focused on high school students\, parents/guardians\, school counselors\, and school administrators in the central Pa. region. \n 
URL:https://careers.upmc.com/event/from-high-school-to-health-care-upmc-scholars-virtual-career-event/
CATEGORIES:Student
END:VEVENT
BEGIN:VEVENT
DTSTART;TZID=America/New_York:20240222T110000
DTEND;TZID=America/New_York:20240222T150000
DTSTAMP:20260424T094522
CREATED:20231211T195010Z
LAST-MODIFIED:20240104T180359Z
UID:5329-1708599600-1708614000@careers.upmc.com
SUMMARY:Public Health & Human Services Career Expo @ Lock Haven University
DESCRIPTION:What to expect: \n\nMeet with Recruiters\nJob Search/Resume Assistance\nRefreshments\nGiveaways and/or Prizes\n\nWho should attend: \nThis event is focused on student and graduate nurse opportunities.
URL:https://careers.upmc.com/event/public-health-human-services-career-expo-lock-haven-university/
LOCATION:Lock Haven University\, 401 N Fairview St\, Lock Haven\, Pennsylvania\, 17745\, United States
CATEGORIES:Student
END:VEVENT
BEGIN:VEVENT
DTSTART;TZID=America/New_York:20240221T100000
DTEND;TZID=America/New_York:20240221T150000
DTSTAMP:20260424T094522
CREATED:20231211T194458Z
LAST-MODIFIED:20240104T181030Z
UID:5326-1708509600-1708527600@careers.upmc.com
SUMMARY:Public Health & Human Services Career Expo @ Bloomsburg University
DESCRIPTION:What to expect: \n\nMeet with Recruiters\nJob Search/Resume Assistance\nRefreshments\nGiveaways and/or Prizes\n\nWho should attend: \nThis event is focused on student and graduate nurse opportunities.
URL:https://careers.upmc.com/event/public-health-human-services-career-expo-bloomsburg-university/
LOCATION:Bloomsburg University\, 400 E 2nd St\, Bloomsburg\, Pennsylvania\, 17815\, United States
CATEGORIES:Student
END:VEVENT
BEGIN:VEVENT
DTSTART;TZID=America/New_York:20240220T100000
DTEND;TZID=America/New_York:20240220T150000
DTSTAMP:20260424T094522
CREATED:20231212T102957Z
LAST-MODIFIED:20240104T181116Z
UID:5361-1708423200-1708441200@careers.upmc.com
SUMMARY:Public Health & Human Services Career Expo @ Mansfield University
DESCRIPTION:What to expect: \n\nMeet with Recruiters\nJob Search/Resume Assistance\nRefreshments\nGiveaways and/or Prizes\n\nWho should attend: \nThis event is focused on student and graduate nurse opportunities.
URL:https://careers.upmc.com/event/public-health-human-services-career-expo-mansfield-university/
LOCATION:Mansfield University\, 31 S Academy St\, Mansfield\, PA 16933\, USA\, Pittsburgh\, PA\, 16933\, United States
CATEGORIES:Student
END:VEVENT
END:VCALENDAR