BEGIN:VCALENDAR
VERSION:2.0
PRODID:-//UPMC - ECPv6.15.12.2//NONSGML v1.0//EN
CALSCALE:GREGORIAN
METHOD:PUBLISH
X-ORIGINAL-URL:https://careers.upmc.com
X-WR-CALDESC:Events for UPMC
REFRESH-INTERVAL;VALUE=DURATION:PT1H
X-Robots-Tag:noindex
X-PUBLISHED-TTL:PT1H
BEGIN:VTIMEZONE
TZID:America/New_York
BEGIN:DAYLIGHT
TZOFFSETFROM:-0500
TZOFFSETTO:-0400
TZNAME:EDT
DTSTART:20240310T070000
END:DAYLIGHT
BEGIN:STANDARD
TZOFFSETFROM:-0400
TZOFFSETTO:-0500
TZNAME:EST
DTSTART:20241103T060000
END:STANDARD
BEGIN:DAYLIGHT
TZOFFSETFROM:-0500
TZOFFSETTO:-0400
TZNAME:EDT
DTSTART:20250309T070000
END:DAYLIGHT
BEGIN:STANDARD
TZOFFSETFROM:-0400
TZOFFSETTO:-0500
TZNAME:EST
DTSTART:20251102T060000
END:STANDARD
BEGIN:DAYLIGHT
TZOFFSETFROM:-0500
TZOFFSETTO:-0400
TZNAME:EDT
DTSTART:20260308T070000
END:DAYLIGHT
BEGIN:STANDARD
TZOFFSETFROM:-0400
TZOFFSETTO:-0500
TZNAME:EST
DTSTART:20261101T060000
END:STANDARD
END:VTIMEZONE
BEGIN:VEVENT
DTSTART;TZID=America/New_York:20250416T083000
DTEND;TZID=America/New_York:20250416T103000
DTSTAMP:20260424T183952
CREATED:20250326T113751Z
LAST-MODIFIED:20250326T113751Z
UID:8811-1744792200-1744799400@careers.upmc.com
SUMMARY:Career Fair @ Harbor Creek High School
DESCRIPTION:What to expect at this event:\n\nMeet with Recruiters\nGiveaways\n\nWho should attend:\nThis event is focused on a variety of roles. \n\nAdministrative & Office Support\nAllied Health\nHousekeeping\nImaging\nMaintenance & Facilities\nNursing\nNutrition\, Dietetic\, & Food Service\nPatient Care Support\nPharmacy\nSafety & Security\nLabs
URL:https://careers.upmc.com/event/career-fair-harbor-creek-high-schoo/
LOCATION:Harbor Creek High School\, 6375 Buffalo Rd\, Harborcreek\, Pennsylvania\, 16421\, United States
CATEGORIES:Multiple Career Areas
END:VEVENT
END:VCALENDAR