BEGIN:VCALENDAR
VERSION:2.0
PRODID:-//UPMC - ECPv6.15.12.2//NONSGML v1.0//EN
CALSCALE:GREGORIAN
METHOD:PUBLISH
X-ORIGINAL-URL:https://careers.upmc.com
X-WR-CALDESC:Events for UPMC
REFRESH-INTERVAL;VALUE=DURATION:PT1H
X-Robots-Tag:noindex
X-PUBLISHED-TTL:PT1H
BEGIN:VTIMEZONE
TZID:America/New_York
BEGIN:DAYLIGHT
TZOFFSETFROM:-0500
TZOFFSETTO:-0400
TZNAME:EDT
DTSTART:20230312T070000
END:DAYLIGHT
BEGIN:STANDARD
TZOFFSETFROM:-0400
TZOFFSETTO:-0500
TZNAME:EST
DTSTART:20231105T060000
END:STANDARD
BEGIN:DAYLIGHT
TZOFFSETFROM:-0500
TZOFFSETTO:-0400
TZNAME:EDT
DTSTART:20240310T070000
END:DAYLIGHT
BEGIN:STANDARD
TZOFFSETFROM:-0400
TZOFFSETTO:-0500
TZNAME:EST
DTSTART:20241103T060000
END:STANDARD
BEGIN:DAYLIGHT
TZOFFSETFROM:-0500
TZOFFSETTO:-0400
TZNAME:EDT
DTSTART:20250309T070000
END:DAYLIGHT
BEGIN:STANDARD
TZOFFSETFROM:-0400
TZOFFSETTO:-0500
TZNAME:EST
DTSTART:20251102T060000
END:STANDARD
END:VTIMEZONE
BEGIN:VEVENT
DTSTART;TZID=America/New_York:20240502T170000
DTEND;TZID=America/New_York:20240502T180000
DTSTAMP:20260426T032430
CREATED:20240403T171718Z
LAST-MODIFIED:20240403T171718Z
UID:6651-1714669200-1714672800@careers.upmc.com
SUMMARY:RN Career Event @ UPMC Hamot - Unit Tour & More
DESCRIPTION:What to expect at this event:\n\nFacility Tour\nMeet with Recruiters\nMeet with Hiring Managers\nGiveaways and/or Prizes\n\nWho should attend:\nThis event involves touring the 4 North Transitional Support Unit and only active licensed registered nurses may attend.
URL:https://careers.upmc.com/event/rn-career-event-upmc-hamot-unit-tour-more/
LOCATION:UPMC Hamot\, 201 State St\, Erie\, PA 16550\, USA\, Erie\, Pennsylvania\, 16550\, United States
CATEGORIES:Nursing
END:VEVENT
END:VCALENDAR