BEGIN:VCALENDAR
VERSION:2.0
PRODID:-//UPMC - ECPv6.15.12.2//NONSGML v1.0//EN
CALSCALE:GREGORIAN
METHOD:PUBLISH
X-WR-CALNAME:UPMC
X-ORIGINAL-URL:https://careers.upmc.com
X-WR-CALDESC:Events for UPMC
REFRESH-INTERVAL;VALUE=DURATION:PT1H
X-Robots-Tag:noindex
X-PUBLISHED-TTL:PT1H
BEGIN:VTIMEZONE
TZID:America/New_York
BEGIN:DAYLIGHT
TZOFFSETFROM:-0500
TZOFFSETTO:-0400
TZNAME:EDT
DTSTART:20230312T070000
END:DAYLIGHT
BEGIN:STANDARD
TZOFFSETFROM:-0400
TZOFFSETTO:-0500
TZNAME:EST
DTSTART:20231105T060000
END:STANDARD
BEGIN:DAYLIGHT
TZOFFSETFROM:-0500
TZOFFSETTO:-0400
TZNAME:EDT
DTSTART:20240310T070000
END:DAYLIGHT
BEGIN:STANDARD
TZOFFSETFROM:-0400
TZOFFSETTO:-0500
TZNAME:EST
DTSTART:20241103T060000
END:STANDARD
BEGIN:DAYLIGHT
TZOFFSETFROM:-0500
TZOFFSETTO:-0400
TZNAME:EDT
DTSTART:20250309T070000
END:DAYLIGHT
BEGIN:STANDARD
TZOFFSETFROM:-0400
TZOFFSETTO:-0500
TZNAME:EST
DTSTART:20251102T060000
END:STANDARD
END:VTIMEZONE
BEGIN:VEVENT
DTSTART;TZID=America/New_York:20240214T090000
DTEND;TZID=America/New_York:20240214T150000
DTSTAMP:20260425T113620
CREATED:20231221T155542Z
LAST-MODIFIED:20240104T181148Z
UID:5527-1707901200-1707922800@careers.upmc.com
SUMMARY:Walk-In Hiring Event @ UPMC Home Health North
DESCRIPTION:What to expect: \n\nInterviews\nMeet with Hiring Managers\nOffers\nGiveaways and/or Prizes\n\nWho should attend: \nThis event is focused on nursing roles.
URL:https://careers.upmc.com/event/walk-in-hiring-event-upmc-home-health-north-7/
LOCATION:UPMC Home Health North\, 300 Northpointe Cir\, Seven Fields\, Pennsylvania\, 16046\, United States
CATEGORIES:Nursing
END:VEVENT
BEGIN:VEVENT
DTSTART;TZID=America/New_York:20240207T090000
DTEND;TZID=America/New_York:20240207T150000
DTSTAMP:20260425T113620
CREATED:20231221T155213Z
LAST-MODIFIED:20240104T181222Z
UID:5524-1707296400-1707318000@careers.upmc.com
SUMMARY:Walk-In Hiring Event @ UPMC Home Health North
DESCRIPTION:What to expect: \n\nInterviews\nMeet with Hiring Managers\nOffers\nGiveaways and/or Prizes\n\nWho should attend: \nThis event is focused on nursing roles.
URL:https://careers.upmc.com/event/walk-in-hiring-event-upmc-home-health-north-6/
LOCATION:UPMC Home Health North\, 300 Northpointe Cir\, Seven Fields\, Pennsylvania\, 16046\, United States
CATEGORIES:Nursing
END:VEVENT
BEGIN:VEVENT
DTSTART;TZID=America/New_York:20240131T090000
DTEND;TZID=America/New_York:20240131T150000
DTSTAMP:20260425T113620
CREATED:20231221T154831Z
LAST-MODIFIED:20240104T181307Z
UID:5521-1706691600-1706713200@careers.upmc.com
SUMMARY:Walk-In Hiring Event @ UPMC Home Health North
DESCRIPTION:What to expect: \n\nInterviews\nMeet with Hiring Managers\nOffers\nGiveaways and/or Prizes\n\nWho should attend: \nThis event is focused on nursing roles.
URL:https://careers.upmc.com/event/walk-in-hiring-event-upmc-home-health-north-5/
LOCATION:UPMC Home Health North\, 300 Northpointe Cir\, Seven Fields\, Pennsylvania\, 16046\, United States
CATEGORIES:Nursing
END:VEVENT
BEGIN:VEVENT
DTSTART;TZID=America/New_York:20240124T090000
DTEND;TZID=America/New_York:20240124T150000
DTSTAMP:20260425T113620
CREATED:20231221T154445Z
LAST-MODIFIED:20240104T181457Z
UID:5517-1706086800-1706108400@careers.upmc.com
SUMMARY:Walk-In Hiring Event @ UPMC Home Health North
DESCRIPTION:What to expect: \n\nInterviews\nMeet with Hiring Managers\nOffers\nGiveaways and/or Prizes\n\nWho should attend: \nThis event is focused on nursing roles.
URL:https://careers.upmc.com/event/walk-in-hiring-event-upmc-home-health-north-4/
LOCATION:UPMC Home Health North\, 300 Northpointe Cir\, Seven Fields\, Pennsylvania\, 16046\, United States
CATEGORIES:Nursing
END:VEVENT
BEGIN:VEVENT
DTSTART;TZID=America/New_York:20240117T090000
DTEND;TZID=America/New_York:20240117T150000
DTSTAMP:20260425T113620
CREATED:20231221T154049Z
LAST-MODIFIED:20240104T181626Z
UID:5514-1705482000-1705503600@careers.upmc.com
SUMMARY:Walk-In Hiring Event @ UPMC Home Health North
DESCRIPTION:What to expect: \n\nInterviews\nMeet with Hiring Managers\nOffers\nGiveaways and/or Prizes\n\nWho should attend: \nThis event is focused on nursing roles.
URL:https://careers.upmc.com/event/walk-in-hiring-event-upmc-home-health-north-3/
LOCATION:UPMC Home Health North\, 300 Northpointe Cir\, Seven Fields\, Pennsylvania\, 16046\, United States
CATEGORIES:Nursing
END:VEVENT
BEGIN:VEVENT
DTSTART;TZID=America/New_York:20240110T090000
DTEND;TZID=America/New_York:20240110T150000
DTSTAMP:20260425T113620
CREATED:20231221T153604Z
LAST-MODIFIED:20240104T182220Z
UID:5511-1704877200-1704898800@careers.upmc.com
SUMMARY:Walk-In Hiring Event @ UPMC Home Health North
DESCRIPTION:What to expect: \n\nInterviews\nMeet with Hiring Managers\nOffers\nGiveaways and/or Prizes\n\nWho should attend: \nThis event is focused on nursing roles.
URL:https://careers.upmc.com/event/walk-in-hiring-event-upmc-home-health-north-2/
LOCATION:UPMC Home Health North\, 300 Northpointe Cir\, Seven Fields\, Pennsylvania\, 16046\, United States
CATEGORIES:Nursing
END:VEVENT
BEGIN:VEVENT
DTSTART;TZID=America/New_York:20240103T090000
DTEND;TZID=America/New_York:20240103T150000
DTSTAMP:20260425T113620
CREATED:20231221T152627Z
LAST-MODIFIED:20240104T182252Z
UID:5508-1704272400-1704294000@careers.upmc.com
SUMMARY:Walk-In Hiring Event @ UPMC Home Health North
DESCRIPTION:What to expect: \n\nInterviews\nMeet with Hiring Managers\nOffers\nGiveaways and/or Prizes\nOpen House\n\nWho should attend: \nThis event is focused on nursing roles.
URL:https://careers.upmc.com/event/walk-in-hiring-event-upmc-home-health-north/
LOCATION:UPMC Home Health North\, 300 Northpointe Cir\, Seven Fields\, Pennsylvania\, 16046\, United States
CATEGORIES:Nursing
END:VEVENT
END:VCALENDAR